BEGIN:VCALENDAR
VERSION:2.0
PRODID:spatie/icalendar-generator
DESCRIPTION:Events from Primorski gorski teki in traili
X-WR-CALDESC:Events from Primorski gorski teki in traili
REFRESH-INTERVAL;VALUE=DURATION:PT1440M
X-PUBLISHED-TTL:PT1440M
BEGIN:VTIMEZONE
TZID:Etc/GMT+0
BEGIN:STANDARD
DTSTART:20251223T100000Z
TZOFFSETFROM:+0000
TZOFFSETTO:+0000
END:STANDARD
END:VTIMEZONE
BEGIN:VTIMEZONE
TZID:UTC
BEGIN:STANDARD
DTSTART:20250724T200941Z
TZOFFSETFROM:+0000
TZOFFSETTO:+0000
END:STANDARD
END:VTIMEZONE
BEGIN:VEVENT
UID:20-20
DTSTAMP:20260420T200941Z
SUMMARY:24. Tek na Hleviše
LOCATION:Idrija TSK Idrija alenstucin@gmail.com
ORGANIZER;CN=admin_pgt:MAILTO:admin@primorskigorskiteki.si
DTSTART;TZID=Etc/GMT+0:20260919T100000
DTEND;TZID=Etc/GMT+0:20260919T110000
X-ALT-DESC;FMTTYPE=TEXT/HTML:<p>5.6km\, +470m</p>\n
CATEGORIES:Gor,  Otroški
URL;VALUE=URI:https://www.primorskigorskiteki.si/it_IT/mc-events/24-tek-na-
 hlevise/
METHOD:PUBLISH
END:VEVENT
END:VCALENDAR